Workbook

Sheet Bonitur
A1: Einstufung des Eschentriebsterbens
A2: Ort: | D2: Datum:
A3: aufgenommen von:
A5: Baum Nr. | B5: Zustand | C5: Sichtein-schränkung | D5: ETS-Symptome | E5: Aststümpfe | F5: Kronen-peripherie | G5: Struktur | H5: Wasserrei-ser Krone | I5: Wasserrei-ser Stamm | J5: Insekten-befall | K5: Stammfuß-nekrosen | L5: Pilzfrucht-körper | M5: Bonitur-stufe | N5: Bemerkung
B6: 0 = lebend, stehend 1 = lebend, liegend oder Hänger 5 = tot, stehend 6 = tot, liegend oder Hänger | C6: 0 = keine 1 = teilweise 2 = stark 3 = nicht möglich | D6: 0 = keine 1 = erste 2 = deutlich 3 = sehr stark | E6: 0 = keine 1 = einige 2 = viele 3 = nur noch | F6: 0 = geschlossen 1 = leichte Schäden 2 = einige Unregelmäßigkeiten 3 = stark unregelmäßig | G6: 0 = Verzweigung in Feinast 1 = wenige Fehler 2 = Schäden im Schwachast-bereich 3 = viel Totholz Starkast 4 = vollständig Sekundärkrone | H6: < 5% = 0 = keine < 50% = 1 = wenige > 50% = 2 = viele | J6: 0 = keine 1 = wenig 2 = viel | K6: 0 = keine 1 = schwach 2 = stark | L6: 0 = nein 1 = ja | M6: wird berechnet
D7: =IF(OR(C7=3, B7=5, B7=6), "NA", "") | E7: =IF(OR(C7=3, B7=5, B7=6), "NA", "") | F7: =IF(OR(C7=3, B7=5, B7=6), "NA", "") | G7: =IF(OR(C7=3, B7=5, B7=6), "NA", "") | H7: =IF(OR(C7=3, B7=5, B7=6), "NA", "") | M7: =IF(AND(Bonitur!B7="", Bonitur!C7="", Hilfstabelle!A1=""), "", IF(Bonitur!B7=5, 5, IF(Bonitur!B7=6, 6, IF(Bonitur!C7=3, "NA", Hilfstabelle!B1))))
D8: =IF(OR(C8=3, B8=5, B8=6), "NA", "") | E8: =IF(OR(C8=3, B8=5, B8=6), "NA", "") | F8: =IF(OR(C8=3, B8=5, B8=6), "NA", "") | G8: =IF(OR(C8=3, B8=5, B8=6), "NA", "") | H8: =IF(OR(C8=3, B8=5, B8=6), "NA", "") | M8: =IF(AND(Bonitur!B8="", Bonitur!C8="", Hilfstabelle!A2=""), "", IF(Bonitur!B8=5, 5, IF(Bonitur!B8=6, 6, IF(Bonitur!C8=3, "NA", Hilfstabelle!B2))))
D9: =IF(OR(C9=3, B9=5, B9=6), "NA", "") | E9: =IF(OR(C9=3, B9=5, B9=6), "NA", "") | F9: =IF(OR(C9=3, B9=5, B9=6), "NA", "") | G9: =IF(OR(C9=3, B9=5, B9=6), "NA", "") | H9: =IF(OR(C9=3, B9=5, B9=6), "NA", "") | M9: =IF(AND(Bonitur!B9="", Bonitur!C9="", Hilfstabelle!A3=""), "", IF(Bonitur!B9=5, 5, IF(Bonitur!B9=6, 6, IF(Bonitur!C9=3, "NA", Hilfstabelle!B3))))
D10: =IF(OR(C10=3, B10=5, B10=6), "NA", "") | E10: =IF(OR(C10=3, B10=5, B10=6), "NA", "") | F10: =IF(OR(C10=3, B10=5, B10=6), "NA", "") | G10: =IF(OR(C10=3, B10=5, B10=6), "NA", "") | H10: =IF(OR(C10=3, B10=5, B10=6), "NA", "") | M10: =IF(AND(Bonitur!B10="", Bonitur!C10="", Hilfstabelle!A4=""), "", IF(Bonitur!B10=5, 5, IF(Bonitur!B10=6, 6, IF(Bonitur!C10=3, "NA", Hilfstabelle!B4))))
D11: =IF(OR(C11=3, B11=5, B11=6), "NA", "") | E11: =IF(OR(C11=3, B11=5, B11=6), "NA", "") | F11: =IF(OR(C11=3, B11=5, B11=6), "NA", "") | G11: =IF(OR(C11=3, B11=5, B11=6), "NA", "") | H11: =IF(OR(C11=3, B11=5, B11=6), "NA", "") | M11: =IF(AND(Bonitur!B11="", Bonitur!C11="", Hilfstabelle!A5=""), "", IF(Bonitur!B11=5, 5, IF(Bonitur!B11=6, 6, IF(Bonitur!C11=3, "NA", Hilfstabelle!B5))))
D12: =IF(OR(C12=3, B12=5, B12=6), "NA", "") | E12: =IF(OR(C12=3, B12=5, B12=6), "NA", "") | F12: =IF(OR(C12=3, B12=5, B12=6), "NA", "") | G12: =IF(OR(C12=3, B12=5, B12=6), "NA", "") | H12: =IF(OR(C12=3, B12=5, B12=6), "NA", "") | M12: =IF(AND(Bonitur!B12="", Bonitur!C12="", Hilfstabelle!A6=""), "", IF(Bonitur!B12=5, 5, IF(Bonitur!B12=6, 6, IF(Bonitur!C12=3, "NA", Hilfstabelle!B6))))
D13: =IF(OR(C13=3, B13=5, B13=6), "NA", "") | E13: =IF(OR(C13=3, B13=5, B13=6), "NA", "") | F13: =IF(OR(C13=3, B13=5, B13=6), "NA", "") | G13: =IF(OR(C13=3, B13=5, B13=6), "NA", "") | H13: =IF(OR(C13=3, B13=5, B13=6), "NA", "") | M13: =IF(AND(Bonitur!B13="", Bonitur!C13="", Hilfstabelle!A7=""), "", IF(Bonitur!B13=5, 5, IF(Bonitur!B13=6, 6, IF(Bonitur!C13=3, "NA", Hilfstabelle!B7))))
D14: =IF(OR(C14=3, B14=5, B14=6), "NA", "") | E14: =IF(OR(C14=3, B14=5, B14=6), "NA", "") | F14: =IF(OR(C14=3, B14=5, B14=6), "NA", "") | G14: =IF(OR(C14=3, B14=5, B14=6), "NA", "") | H14: =IF(OR(C14=3, B14=5, B14=6), "NA", "") | M14: =IF(AND(Bonitur!B14="", Bonitur!C14="", Hilfstabelle!A8=""), "", IF(Bonitur!B14=5, 5, IF(Bonitur!B14=6, 6, IF(Bonitur!C14=3, "NA", Hilfstabelle!B8))))
D15: =IF(OR(C15=3, B15=5, B15=6), "NA", "") | E15: =IF(OR(C15=3, B15=5, B15=6), "NA", "") | F15: =IF(OR(C15=3, B15=5, B15=6), "NA", "") | G15: =IF(OR(C15=3, B15=5, B15=6), "NA", "") | H15: =IF(OR(C15=3, B15=5, B15=6), "NA", "") | M15: =IF(AND(Bonitur!B15="", Bonitur!C15="", Hilfstabelle!A9=""), "", IF(Bonitur!B15=5, 5, IF(Bonitur!B15=6, 6, IF(Bonitur!C15=3, "NA", Hilfstabelle!B9))))
D16: =IF(OR(C16=3, B16=5, B16=6), "NA", "") | E16: =IF(OR(C16=3, B16=5, B16=6), "NA", "") | F16: =IF(OR(C16=3, B16=5, B16=6), "NA", "") | G16: =IF(OR(C16=3, B16=5, B16=6), "NA", "") | H16: =IF(OR(C16=3, B16=5, B16=6), "NA", "") | M16: =IF(AND(Bonitur!B16="", Bonitur!C16="", Hilfstabelle!A10=""), "", IF(Bonitur!B16=5, 5, IF(Bonitur!B16=6, 6, IF(Bonitur!C16=3, "NA", Hilfstabelle!B10))))
D17: =IF(OR(C17=3, B17=5, B17=6), "NA", "") | E17: =IF(OR(C17=3, B17=5, B17=6), "NA", "") | F17: =IF(OR(C17=3, B17=5, B17=6), "NA", "") | G17: =IF(OR(C17=3, B17=5, B17=6), "NA", "") | H17: =IF(OR(C17=3, B17=5, B17=6), "NA", "") | M17: =IF(AND(Bonitur!B17="", Bonitur!C17="", Hilfstabelle!A11=""), "", IF(Bonitur!B17=5, 5, IF(Bonitur!B17=6, 6, IF(Bonitur!C17=3, "NA", Hilfstabelle!B11))))
D18: =IF(OR(C18=3, B18=5, B18=6), "NA", "") | E18: =IF(OR(C18=3, B18=5, B18=6), "NA", "") | F18: =IF(OR(C18=3, B18=5, B18=6), "NA", "") | G18: =IF(OR(C18=3, B18=5, B18=6), "NA", "") | H18: =IF(OR(C18=3, B18=5, B18=6), "NA", "") | M18: =IF(AND(Bonitur!B18="", Bonitur!C18="", Hilfstabelle!A12=""), "", IF(Bonitur!B18=5, 5, IF(Bonitur!B18=6, 6, IF(Bonitur!C18=3, "NA", Hilfstabelle!B12))))
... D127: =IF(OR(C127=3, B127=5, B127=6), "NA", "") | E127: =IF(OR(C127=3, B127=5, B127=6), "NA", "") | F127: =IF(OR(C127=3, B127=5, B127=6), "NA", "") | G127: =IF(OR(C127=3, B127=5, B127=6), "NA", "") | H127: =IF(OR(C127=3, B127=5, B127=6), "NA", "") | M127: =IF(AND(Bonitur!B127="", Bonitur!C127="", Hilfstabelle!A121=""), "", IF(Bonitur!B127=5, 5, IF(Bonitur!B127=6, 6, IF(Bonitur!C127=3, "NA", Hilfstabelle!B121))))
J330: EAB-Vorkommen unabhängig vom ETS unbedingt vermerken und melden | K330: Befinden sich Stammfußnekrosen oder Pilzfruchtkörper an der Esche, kann eine Gefährdung der Stand-/Bruchsicherheit bestehen!

Sheet Hilfstabelle
A1: =IF(OR(Bonitur!C7=3, Bonitur!D7="NA", Bonitur!E7="NA", Bonitur!F7="NA", Bonitur!G7="NA", Bonitur!H7="NA", Bonitur!B7=""), "", IF(Bonitur!B7=5, 5, IF(Bonitur!B7=6, 6, "Berechnung"))) | B1: =IF(A1="Berechnung", IF(OR(Bonitur!D7="", Bonitur!E7="", Bonitur!F7="", Bonitur!G7="", Bonitur!H7=""), "", 4.2*((Bonitur!D7/3)*0.15 + (Bonitur!E7/3)*0.1 + (Bonitur!F7/3)*0.1 + (Bonitur!G7/4)*0.6 + (Bonitur!H7/2)*0.05)), "")
A2: =IF(OR(Bonitur!C8=3, Bonitur!D8="NA", Bonitur!E8="NA", Bonitur!F8="NA", Bonitur!G8="NA", Bonitur!H8="NA", Bonitur!B8=""), "", IF(Bonitur!B8=5, 5, IF(Bonitur!B8=6, 6, "Berechnung"))) | B2: =IF(A2="Berechnung", IF(OR(Bonitur!D8="", Bonitur!E8="", Bonitur!F8="", Bonitur!G8="", Bonitur!H8=""), "", 4.2*((Bonitur!D8/3)*0.15 + (Bonitur!E8/3)*0.1 + (Bonitur!F8/3)*0.1 + (Bonitur!G8/4)*0.6 + (Bonitur!H8/2)*0.05)), "")
A3: =IF(OR(Bonitur!C9=3, Bonitur!D9="NA", Bonitur!E9="NA", Bonitur!F9="NA", Bonitur!G9="NA", Bonitur!H9="NA", Bonitur!B9=""), "", IF(Bonitur!B9=5, 5, IF(Bonitur!B9=6, 6, "Berechnung"))) | B3: =IF(A3="Berechnung", IF(OR(Bonitur!D9="", Bonitur!E9="", Bonitur!F9="", Bonitur!G9="", Bonitur!H9=""), "", 4.2*((Bonitur!D9/3)*0.15 + (Bonitur!E9/3)*0.1 + (Bonitur!F9/3)*0.1 + (Bonitur!G9/4)*0.6 + (Bonitur!H9/2)*0.05)), "")
A4: =IF(OR(Bonitur!C10=3, Bonitur!D10="NA", Bonitur!E10="NA", Bonitur!F10="NA", Bonitur!G10="NA", Bonitur!H10="NA", Bonitur!B10=""), "", IF(Bonitur!B10=5, 5, IF(Bonitur!B10=6, 6, "Berechnung"))) | B4: =IF(A4="Berechnung", IF(OR(Bonitur!D10="", Bonitur!E10="", Bonitur!F10="", Bonitur!G10="", Bonitur!H10=""), "", 4.2*((Bonitur!D10/3)*0.15 + (Bonitur!E10/3)*0.1 + (Bonitur!F10/3)*0.1 + (Bonitur!G10/4)*0.6 + (Bonitur!H10/2)*0.05)), "")
A5: =IF(OR(Bonitur!C11=3, Bonitur!D11="NA", Bonitur!E11="NA", Bonitur!F11="NA", Bonitur!G11="NA", Bonitur!H11="NA", Bonitur!B11=""), "", IF(Bonitur!B11=5, 5, IF(Bonitur!B11=6, 6, "Berechnung"))) | B5: =IF(A5="Berechnung", IF(OR(Bonitur!D11="", Bonitur!E11="", Bonitur!F11="", Bonitur!G11="", Bonitur!H11=""), "", 4.2*((Bonitur!D11/3)*0.15 + (Bonitur!E11/3)*0.1 + (Bonitur!F11/3)*0.1 + (Bonitur!G11/4)*0.6 + (Bonitur!H11/2)*0.05)), "")
A6: =IF(OR(Bonitur!C12=3, Bonitur!D12="NA", Bonitur!E12="NA", Bonitur!F12="NA", Bonitur!G12="NA", Bonitur!H12="NA", Bonitur!B12=""), "", IF(Bonitur!B12=5, 5, IF(Bonitur!B12=6, 6, "Berechnung"))) | B6: =IF(A6="Berechnung", IF(OR(Bonitur!D12="", Bonitur!E12="", Bonitur!F12="", Bonitur!G12="", Bonitur!H12=""), "", 4.2*((Bonitur!D12/3)*0.15 + (Bonitur!E12/3)*0.1 + (Bonitur!F12/3)*0.1 + (Bonitur!G12/4)*0.6 + (Bonitur!H12/2)*0.05)), "")
A7: =IF(OR(Bonitur!C13=3, Bonitur!D13="NA", Bonitur!E13="NA", Bonitur!F13="NA", Bonitur!G13="NA", Bonitur!H13="NA", Bonitur!B13=""), "", IF(Bonitur!B13=5, 5, IF(Bonitur!B13=6, 6, "Berechnung"))) | B7: =IF(A7="Berechnung", IF(OR(Bonitur!D13="", Bonitur!E13="", Bonitur!F13="", Bonitur!G13="", Bonitur!H13=""), "", 4.2*((Bonitur!D13/3)*0.15 + (Bonitur!E13/3)*0.1 + (Bonitur!F13/3)*0.1 + (Bonitur!G13/4)*0.6 + (Bonitur!H13/2)*0.05)), "")
A8: =IF(OR(Bonitur!C14=3, Bonitur!D14="NA", Bonitur!E14="NA", Bonitur!F14="NA", Bonitur!G14="NA", Bonitur!H14="NA", Bonitur!B14=""), "", IF(Bonitur!B14=5, 5, IF(Bonitur!B14=6, 6, "Berechnung"))) | B8: =IF(A8="Berechnung", IF(OR(Bonitur!D14="", Bonitur!E14="", Bonitur!F14="", Bonitur!G14="", Bonitur!H14=""), "", 4.2*((Bonitur!D14/3)*0.15 + (Bonitur!E14/3)*0.1 + (Bonitur!F14/3)*0.1 + (Bonitur!G14/4)*0.6 + (Bonitur!H14/2)*0.05)), "")
A9: =IF(OR(Bonitur!C15=3, Bonitur!D15="NA", Bonitur!E15="NA", Bonitur!F15="NA", Bonitur!G15="NA", Bonitur!H15="NA", Bonitur!B15=""), "", IF(Bonitur!B15=5, 5, IF(Bonitur!B15=6, 6, "Berechnung"))) | B9: =IF(A9="Berechnung", IF(OR(Bonitur!D15="", Bonitur!E15="", Bonitur!F15="", Bonitur!G15="", Bonitur!H15=""), "", 4.2*((Bonitur!D15/3)*0.15 + (Bonitur!E15/3)*0.1 + (Bonitur!F15/3)*0.1 + (Bonitur!G15/4)*0.6 + (Bonitur!H15/2)*0.05)), "")
A10: =IF(OR(Bonitur!C16=3, Bonitur!D16="NA", Bonitur!E16="NA", Bonitur!F16="NA", Bonitur!G16="NA", Bonitur!H16="NA", Bonitur!B16=""), "", IF(Bonitur!B16=5, 5, IF(Bonitur!B16=6, 6, "Berechnung"))) | B10: =IF(A10="Berechnung", IF(OR(Bonitur!D16="", Bonitur!E16="", Bonitur!F16="", Bonitur!G16="", Bonitur!H16=""), "", 4.2*((Bonitur!D16/3)*0.15 + (Bonitur!E16/3)*0.1 + (Bonitur!F16/3)*0.1 + (Bonitur!G16/4)*0.6 + (Bonitur!H16/2)*0.05)), "")
A11: =IF(OR(Bonitur!C17=3, Bonitur!D17="NA", Bonitur!E17="NA", Bonitur!F17="NA", Bonitur!G17="NA", Bonitur!H17="NA", Bonitur!B17=""), "", IF(Bonitur!B17=5, 5, IF(Bonitur!B17=6, 6, "Berechnung"))) | B11: =IF(A11="Berechnung", IF(OR(Bonitur!D17="", Bonitur!E17="", Bonitur!F17="", Bonitur!G17="", Bonitur!H17=""), "", 4.2*((Bonitur!D17/3)*0.15 + (Bonitur!E17/3)*0.1 + (Bonitur!F17/3)*0.1 + (Bonitur!G17/4)*0.6 + (Bonitur!H17/2)*0.05)), "")
A12: =IF(OR(Bonitur!C18=3, Bonitur!D18="NA", Bonitur!E18="NA", Bonitur!F18="NA", Bonitur!G18="NA", Bonitur!H18="NA", Bonitur!B18=""), "", IF(Bonitur!B18=5, 5, IF(Bonitur!B18=6, 6, "Berechnung"))) | B12: =IF(A12="Berechnung", IF(OR(Bonitur!D18="", Bonitur!E18="", Bonitur!F18="", Bonitur!G18="", Bonitur!H18=""), "", 4.2*((Bonitur!D18/3)*0.15 + (Bonitur!E18/3)*0.1 + (Bonitur!F18/3)*0.1 + (Bonitur!G18/4)*0.6 + (Bonitur!H18/2)*0.05)), "")
... A300: =IF(OR(Bonitur!C306=3, Bonitur!D306="NA", Bonitur!E306="NA", Bonitur!F306="NA", Bonitur!G306="NA", Bonitur!H306="NA", Bonitur!B306=""), "", IF(Bonitur!B306=5, 5, IF(Bonitur!B306=6, 6, "Berechnung"))) | B300: =IF(A300="Berechnung", IF(OR(Bonitur!D306="", Bonitur!E306="", Bonitur!F306="", Bonitur!G306="", Bonitur!H306=""), "", 4.2*((Bonitur!D306/3)*0.15 + (Bonitur!E306/3)*0.1 + (Bonitur!F306/3)*0.1 + (Bonitur!G306/4)*0.6 + (Bonitur!H306/2)*0.05)), "")

Sheet Listen
A1: Zustand | B1: Sichteinschränkung | C1: ETS-Symptome | D1: Aststümpfe | E1: Kronenperipherie | F1: Struktur | G1: Wasserreiser Krone | H1: Wasserreiser Stamm | I1: Insektenbefall | J1: Stammfußnekrosen | K1: Pilzfruchtkörper | L1: Rhizomorphen
A2: 0 | B2: 0 | C2: 0 | D2: 0 | E2: 0 | F2: 0 | G2: 0 | H2: 0 | I2: 0 | J2: 0 | K2: 0 | L2: 0
A3: 1 | B3: 1 | C3: 1 | D3: 1 | E3: 1 | F3: 1 | G3: 1 | H3: 1 | I3: 1 | J3: 1 | K3: 1 | L3: 1
A4: 5 | B4: 2 | C4: 2 | D4: 2 | E4: 2 | F4: 2 | G4: 2 | H4: 2 | I4: 2 | J4: 2 | K4: NA | L4: NA
A5: 6 | B5: 3 | C5: 3 | D5: 3 | E5: 3 | F5: 3 | G5: NA | H5: NA | I5: NA | J5: NA
B6: NA | C6: NA | D6: NA | E6: NA | F6: 4
F7: NA
