Workbook

Sheet Bonitur
A1: Einstufung des Eschentriebsterbens
A2: Ort: | D2: Datum:
A3: aufgenommen von:
A5: Baum Nr. | B5: Zustand | C5: Sichtein-schränkung | D5: Blattverlust | E5: Kronen-zustand | F5: Bemerkung
B6: 0 = lebend, stehend 1 = lebend, liegend oder Hänger 5 = tot, stehend 6 = tot, liegend oder Hänger | C6: 0 = keine 1 = teilweise 2 = stark 3 = nicht möglich | D6: in 5 %-Stufen | E6: Schadstufe 0 - 6
D7: =IF(OR(C7=3, B7=5, B7=6), "NA", "") | E7: =IF(AND(Bonitur!B7="", Bonitur!C7=""), "", IF(Bonitur!B7=5, 5, IF(Bonitur!B7=6, 6, IF(Bonitur!C7=3, "NA", ""))))
D8: =IF(OR(C8=3, B8=5, B8=6), "NA", "") | E8: =IF(AND(Bonitur!B8="", Bonitur!C8=""), "", IF(Bonitur!B8=5, 5, IF(Bonitur!B8=6, 6, IF(Bonitur!C8=3, "NA", ""))))
D9: =IF(OR(C9=3, B9=5, B9=6), "NA", "") | E9: =IF(AND(Bonitur!B9="", Bonitur!C9=""), "", IF(Bonitur!B9=5, 5, IF(Bonitur!B9=6, 6, IF(Bonitur!C9=3, "NA", ""))))
D10: =IF(OR(C10=3, B10=5, B10=6), "NA", "") | E10: =IF(AND(Bonitur!B10="", Bonitur!C10=""), "", IF(Bonitur!B10=5, 5, IF(Bonitur!B10=6, 6, IF(Bonitur!C10=3, "NA", ""))))
D11: =IF(OR(C11=3, B11=5, B11=6), "NA", "") | E11: =IF(AND(Bonitur!B11="", Bonitur!C11=""), "", IF(Bonitur!B11=5, 5, IF(Bonitur!B11=6, 6, IF(Bonitur!C11=3, "NA", ""))))
D12: =IF(OR(C12=3, B12=5, B12=6), "NA", "") | E12: =IF(AND(Bonitur!B12="", Bonitur!C12=""), "", IF(Bonitur!B12=5, 5, IF(Bonitur!B12=6, 6, IF(Bonitur!C12=3, "NA", ""))))
D13: =IF(OR(C13=3, B13=5, B13=6), "NA", "") | E13: =IF(AND(Bonitur!B13="", Bonitur!C13=""), "", IF(Bonitur!B13=5, 5, IF(Bonitur!B13=6, 6, IF(Bonitur!C13=3, "NA", ""))))
D14: =IF(OR(C14=3, B14=5, B14=6), "NA", "") | E14: =IF(AND(Bonitur!B14="", Bonitur!C14=""), "", IF(Bonitur!B14=5, 5, IF(Bonitur!B14=6, 6, IF(Bonitur!C14=3, "NA", ""))))
D15: =IF(OR(C15=3, B15=5, B15=6), "NA", "") | E15: =IF(AND(Bonitur!B15="", Bonitur!C15=""), "", IF(Bonitur!B15=5, 5, IF(Bonitur!B15=6, 6, IF(Bonitur!C15=3, "NA", ""))))
D16: =IF(OR(C16=3, B16=5, B16=6), "NA", "") | E16: =IF(AND(Bonitur!B16="", Bonitur!C16=""), "", IF(Bonitur!B16=5, 5, IF(Bonitur!B16=6, 6, IF(Bonitur!C16=3, "NA", ""))))
D17: =IF(OR(C17=3, B17=5, B17=6), "NA", "") | E17: =IF(AND(Bonitur!B17="", Bonitur!C17=""), "", IF(Bonitur!B17=5, 5, IF(Bonitur!B17=6, 6, IF(Bonitur!C17=3, "NA", ""))))
D18: =IF(OR(C18=3, B18=5, B18=6), "NA", "") | E18: =IF(AND(Bonitur!B18="", Bonitur!C18=""), "", IF(Bonitur!B18=5, 5, IF(Bonitur!B18=6, 6, IF(Bonitur!C18=3, "NA", ""))))
... D127: =IF(OR(C127=3, B127=5, B127=6), "NA", "") | E127: =IF(AND(Bonitur!B127="", Bonitur!C127=""), "", IF(Bonitur!B127=5, 5, IF(Bonitur!B127=6, 6, IF(Bonitur!C127=3, "NA", ""))))

Sheet Listen
A1: Zustand | B1: Sichteinschränkung | C1: Blattverlust | D1: Kronenzustand
A2: 0 | B2: 0 | C2: 0 | D2: 0
A3: 1 | B3: 1 | C3: 5 | D3: 1
A4: 5 | B4: 2 | C4: 10 | D4: 2
A5: 6 | B5: 3 | C5: 15 | D5: 3
B6: NA | C6: 20 | D6: 4
C7: 25 | D7: 5
C8: 30 | D8: 6
C9: 35
C10: 40
C11: 45
C12: 50
C13: 55
C14: 60
C15: 65
C16: 70
C17: 75
C18: 80
C19: 85
C20: 90
... C22: 100
C23: NA
